BEGIN:VCALENDAR
VERSION:2.0
PRODID:-//sammyssuperheroes.org - ECPv6.15.20//NONSGML v1.0//EN
CALSCALE:GREGORIAN
METHOD:PUBLISH
X-WR-CALNAME:sammyssuperheroes.org
X-ORIGINAL-URL:https://sammyssuperheroes.org
X-WR-CALDESC:Events for sammyssuperheroes.org
REFRESH-INTERVAL;VALUE=DURATION:PT1H
X-Robots-Tag:noindex
X-PUBLISHED-TTL:PT1H
BEGIN:VTIMEZONE
TZID:UTC
BEGIN:STANDARD
TZOFFSETFROM:+0000
TZOFFSETTO:+0000
TZNAME:UTC
DTSTART:20240101T000000
END:STANDARD
END:VTIMEZONE
BEGIN:VEVENT
DTSTART;VALUE=DATE:20251010
DTEND;VALUE=DATE:20251011
DTSTAMP:20260424T173520
CREATED:20250822T062048Z
LAST-MODIFIED:20250822T062048Z
UID:3196-1760054400-1760140799@sammyssuperheroes.org
SUMMARY:Columbus Blood Drive
DESCRIPTION:
URL:https://sammyssuperheroes.org/event/columbus-blood-drive/
ORGANIZER;CN="Bev Larsen":MAILTO:bev@sammyssuperheroes.org
END:VEVENT
END:VCALENDAR