BEGIN:VCALENDAR
VERSION:2.0
PRODID:-//sammyssuperheroes.org - ECPv6.15.20//NONSGML v1.0//EN
CALSCALE:GREGORIAN
METHOD:PUBLISH
X-WR-CALNAME:sammyssuperheroes.org
X-ORIGINAL-URL:https://sammyssuperheroes.org
X-WR-CALDESC:Events for sammyssuperheroes.org
REFRESH-INTERVAL;VALUE=DURATION:PT1H
X-Robots-Tag:noindex
X-PUBLISHED-TTL:PT1H
BEGIN:VTIMEZONE
TZID:UTC
BEGIN:STANDARD
TZOFFSETFROM:+0000
TZOFFSETTO:+0000
TZNAME:UTC
DTSTART:20240101T000000
END:STANDARD
END:VTIMEZONE
BEGIN:VEVENT
DTSTART;TZID=UTC:20250927T150000
DTEND;TZID=UTC:20250927T220000
DTSTAMP:20260424T174048
CREATED:20250822T055044Z
LAST-MODIFIED:20250826T052138Z
UID:3181-1758985200-1759010400@sammyssuperheroes.org
SUMMARY:Glow Gold
DESCRIPTION:Saturday\, September 27\, 2025\n3:00 pm10:00 pm\n\nCountry Drive Golf Course
URL:https://sammyssuperheroes.org/event/glow-gold/
LOCATION:Country Drive Golf Course
ATTACH;FMTTYPE=image/webp:https://sammyssuperheroes.org/wp-content/uploads/2025/08/2025-GG-1.png.webp
ORGANIZER;CN="Bev Larsen":MAILTO:bev@sammyssuperheroes.org
END:VEVENT
END:VCALENDAR